BEGIN:VCALENDAR
VERSION:2.0
PRODID:-//Snow Ridge - ECPv6.15.11//NONSGML v1.0//EN
CALSCALE:GREGORIAN
METHOD:PUBLISH
X-WR-CALNAME:Snow Ridge
X-ORIGINAL-URL:https://snowridge.com
X-WR-CALDESC:Events for Snow Ridge
REFRESH-INTERVAL;VALUE=DURATION:PT1H
X-Robots-Tag:noindex
X-PUBLISHED-TTL:PT1H
BEGIN:VTIMEZONE
TZID:America/New_York
BEGIN:DAYLIGHT
TZOFFSETFROM:-0500
TZOFFSETTO:-0400
TZNAME:EDT
DTSTART:20220313T070000
END:DAYLIGHT
BEGIN:STANDARD
TZOFFSETFROM:-0400
TZOFFSETTO:-0500
TZNAME:EST
DTSTART:20221106T060000
END:STANDARD
BEGIN:DAYLIGHT
TZOFFSETFROM:-0500
TZOFFSETTO:-0400
TZNAME:EDT
DTSTART:20230312T070000
END:DAYLIGHT
BEGIN:STANDARD
TZOFFSETFROM:-0400
TZOFFSETTO:-0500
TZNAME:EST
DTSTART:20231105T060000
END:STANDARD
BEGIN:DAYLIGHT
TZOFFSETFROM:-0500
TZOFFSETTO:-0400
TZNAME:EDT
DTSTART:20240310T070000
END:DAYLIGHT
BEGIN:STANDARD
TZOFFSETFROM:-0400
TZOFFSETTO:-0500
TZNAME:EST
DTSTART:20241103T060000
END:STANDARD
END:VTIMEZONE
BEGIN:VEVENT
DTSTART;TZID=America/New_York:20230211T153000
DTEND;TZID=America/New_York:20230211T233000
DTSTAMP:20260425T160226
CREATED:20230210T014332Z
LAST-MODIFIED:20230210T014332Z
UID:5593-1676129400-1676158200@snowridge.com
SUMMARY:Snowmobile Hill Climb #2
DESCRIPTION:The sleds are back! Come race your snowmobile or catch the action in person. Get all the info from Jerry Rice Racing!
URL:https://snowridge.com/event/snowmobile-hill-climb-2-2/
LOCATION:Snow Ridge\, 4173 WEST ROAD\, TURIN\, NY\, 13473\, United States
ATTACH;FMTTYPE=image/jpeg:https://snowridge.com/wp/wp-content/uploads/2022/02/BO5A3253-scaled.jpg
END:VEVENT
BEGIN:VEVENT
DTSTART;TZID=America/New_York:20230224T090000
DTEND;TZID=America/New_York:20230224T160000
DTSTAMP:20260425T160226
CREATED:20230220T165943Z
LAST-MODIFIED:20230220T165943Z
UID:5619-1677229200-1677254400@snowridge.com
SUMMARY:Free Ski Fundraising Day!
DESCRIPTION:It’s baaaaackkk!! After a slow start to the season\, our Free Ski Fundraising Day has been moved from Christmas Eve to Friday\, February 24th. Bring 10 canned goods or non-perishable food items for the local food bank OR donate $10 to the Snow Ridge Scholarship Fund and receive one free all area lift ticket! The mountain will be open from 9am-4pm\, so come support a couple great causes and enjoy a beautiful day on the slopes!
URL:https://snowridge.com/event/free-ski-fundraising-day/
LOCATION:Snow Ridge\, 4173 WEST ROAD\, TURIN\, NY\, 13473\, United States
ATTACH;FMTTYPE=image/jpeg:https://snowridge.com/wp/wp-content/uploads/2019/03/Chairs-2019-scaled.jpg
END:VEVENT
BEGIN:VEVENT
DTSTART;TZID=America/New_York:20230225T163000
DTEND;TZID=America/New_York:20230225T230000
DTSTAMP:20260425T160226
CREATED:20230220T170602Z
LAST-MODIFIED:20230220T170629Z
UID:5621-1677342600-1677366000@snowridge.com
SUMMARY:Snowmobile Hill Drag #3
DESCRIPTION:The big rigs are back for one more night of high octane action! Enter your sled or come watch the show from the lodge or track side. Get all the info over at Jerry Rice Racing!
URL:https://snowridge.com/event/snowmobile-hill-drag-3-3/
LOCATION:Snow Ridge\, 4173 WEST ROAD\, TURIN\, NY\, 13473\, United States
END:VEVENT
END:VCALENDAR