BEGIN:VCALENDAR
VERSION:2.0
PRODID:-//Snow Ridge - ECPv6.15.11//NONSGML v1.0//EN
CALSCALE:GREGORIAN
METHOD:PUBLISH
X-WR-CALNAME:Snow Ridge
X-ORIGINAL-URL:https://snowridge.com
X-WR-CALDESC:Events for Snow Ridge
REFRESH-INTERVAL;VALUE=DURATION:PT1H
X-Robots-Tag:noindex
X-PUBLISHED-TTL:PT1H
BEGIN:VTIMEZONE
TZID:America/New_York
BEGIN:DAYLIGHT
TZOFFSETFROM:-0500
TZOFFSETTO:-0400
TZNAME:EDT
DTSTART:20210314T070000
END:DAYLIGHT
BEGIN:STANDARD
TZOFFSETFROM:-0400
TZOFFSETTO:-0500
TZNAME:EST
DTSTART:20211107T060000
END:STANDARD
BEGIN:DAYLIGHT
TZOFFSETFROM:-0500
TZOFFSETTO:-0400
TZNAME:EDT
DTSTART:20220313T070000
END:DAYLIGHT
BEGIN:STANDARD
TZOFFSETFROM:-0400
TZOFFSETTO:-0500
TZNAME:EST
DTSTART:20221106T060000
END:STANDARD
BEGIN:DAYLIGHT
TZOFFSETFROM:-0500
TZOFFSETTO:-0400
TZNAME:EDT
DTSTART:20230312T070000
END:DAYLIGHT
BEGIN:STANDARD
TZOFFSETFROM:-0400
TZOFFSETTO:-0500
TZNAME:EST
DTSTART:20231105T060000
END:STANDARD
END:VTIMEZONE
BEGIN:VEVENT
DTSTART;TZID=America/New_York:20220902T120000
DTEND;TZID=America/New_York:20220905T160000
DTSTAMP:20260426T000202
CREATED:20220816T181326Z
LAST-MODIFIED:20220817T195657Z
UID:5099-1662120000-1662393600@snowridge.com
SUMMARY:Beaverfest Camping
DESCRIPTION:Kayakers rejoice! Join us for a weekend of camping during the Beaverfest festivities. Also enjoy our on site 18-hole disc golf course\, concrete skate bowl\, and full service restaurant Tavern230. See below for all the information and to pre-register for your site today! \nBeaverfest Camping at Snow Ridge\n– Campsites from 9/2 Friday afternoon- 9/5 Monday afternoon\n– Check in anytime Friday after Noon. Check out by 5PM Monday afternoon.\n– Cost per person is $20 (pre-register or at the gate)\n– Tent sites will be in designated areas directly next to your vehicle\n– Trailer sites will be in designated areas for anything 14 ft. or longer and require an additional fee\n– NO glass allowed on site\n– NO personal fires allowed\, communal fire place will be available\n– NO fireworks\, explosives\, firearms\, or weapons of any kind\n– Dogs must be leashed at all times and cleaned up after\n– Bathrooms will be available\, but there are no showers on site\n– Breakfast to-go will be available Sat\, Sun\, and Mon morning. Hours TBD.\n– Tavern230 will be open with food service Friday 5pm-9pm and Saturday 12pm-9pm. Bar service will be available during these times as well plus after hours TBD.\nCheck out the Tavern230 Summer Menu here!  \nPre-register for your site at the link below!
URL:https://snowridge.com/event/beaverfest-camping/
LOCATION:Snow Ridge\, 4173 WEST ROAD\, TURIN\, NY\, 13473\, United States
CATEGORIES:Summer Events
END:VEVENT
BEGIN:VEVENT
DTSTART;TZID=America/New_York:20220910T090000
DTEND;TZID=America/New_York:20220910T180000
DTSTAMP:20260426T000202
CREATED:20220803T130838Z
LAST-MODIFIED:20220818T191134Z
UID:5077-1662800400-1662832800@snowridge.com
SUMMARY:Snow Ridge Scholarship Golf Classic
DESCRIPTION:We’ve added a brand new event for the end of summer! Introducing the Snow Ridge Scholarship Classic at the Ledges Golf Course in Turin! This event is a fundraiser for our Snow Ridge Scholarship Fund\, which aims to award two scholarships in the Spring of 2023. One winner will be a Snow Ridge employee who is a high school senior or college student. The other winner will be a South Lewis senior who has an interest in a career in the outdoor recreation or hospitality fields. Help us award these students with a boost into their future careers! \nThe Snow Ridge Scholarship Classic is a golf tournament like you’ve never seen before. Teams of four will play a captain and crew format\, with a game or challenge on ALL 18 holes! A number of these games will include a prize for the winner\, while others will help to even the field in the form of fun\, whacky challenges. Have you ever teed off in ski boots? Tried to putt with a ski? Won a SHORT drive contest? These are all some of the things you’ll find at the inaugural Scholarship Classic! \nThe tournament will take place on Saturday\, September 10th. Registration and breakfast begin at 9am\, shotgun start at 10am\, cocktail hour at Ledges from 3pm-4pm\, and dinner and awards at Tavern230 from 4pm-6pm! Registration is $320 per four person team and includes 18 holes of golf\, cart\, breakfast\, lunch\, dinner\, games\, raffle\, and 4 buy one get one free Snow Ridge lift tickets per team! All teams will compete in a single division with prizes for the top 3 and “most honest” teams. \nREGISTER TODAY at the link below and feel free to direct any questions to nick@snowridge.com. We’ll see you on the course! \nAll purchases are final. There will be no refunds for this fundraising event. Substitutions are allowed.
URL:https://snowridge.com/event/snow-ridge-scholarship-golf-classic/
LOCATION:Ledges Golf Course\, 4448 East Road\, Turin\, NY\, 13473\, United States
CATEGORIES:Summer Events
ATTACH;FMTTYPE=image/png:https://snowridge.com/wp/wp-content/uploads/2022/08/Screen-Shot-2022-08-15-at-7.01.45-PM.png
END:VEVENT
BEGIN:VEVENT
DTSTART;TZID=America/New_York:20220924T110000
DTEND;TZID=America/New_York:20220924T150000
DTSTAMP:20260426T000202
CREATED:20220816T143817Z
LAST-MODIFIED:20220816T143923Z
UID:5094-1664017200-1664031600@snowridge.com
SUMMARY:1.5K Lazy Brew-Ski "Run"
DESCRIPTION:Check out the information and register for the first ever 1.5K Lazy Brew-Ski “Run” to raise funds for the Hand in Hand Early Childhood Center!
URL:https://snowridge.com/event/1-5k-lazy-brew-ski-run/
LOCATION:Tavern230\, 4173 West Rd.\, Turin\, NY\, 13473\, United States
CATEGORIES:Summer Events
ATTACH;FMTTYPE=image/jpeg:https://snowridge.com/wp/wp-content/uploads/2022/08/IMG_4182.jpg
ORGANIZER;CN="Hand in Hand":MAILTO:hihecc.director@gmail.com
END:VEVENT
END:VCALENDAR