BEGIN:VCALENDAR
VERSION:2.0
PRODID:-//Snow Ridge - ECPv6.15.11//NONSGML v1.0//EN
CALSCALE:GREGORIAN
METHOD:PUBLISH
X-WR-CALNAME:Snow Ridge
X-ORIGINAL-URL:https://snowridge.com
X-WR-CALDESC:Events for Snow Ridge
REFRESH-INTERVAL;VALUE=DURATION:PT1H
X-Robots-Tag:noindex
X-PUBLISHED-TTL:PT1H
BEGIN:VTIMEZONE
TZID:America/New_York
BEGIN:DAYLIGHT
TZOFFSETFROM:-0500
TZOFFSETTO:-0400
TZNAME:EDT
DTSTART:20250309T070000
END:DAYLIGHT
BEGIN:STANDARD
TZOFFSETFROM:-0400
TZOFFSETTO:-0500
TZNAME:EST
DTSTART:20251102T060000
END:STANDARD
BEGIN:DAYLIGHT
TZOFFSETFROM:-0500
TZOFFSETTO:-0400
TZNAME:EDT
DTSTART:20260308T070000
END:DAYLIGHT
BEGIN:STANDARD
TZOFFSETFROM:-0400
TZOFFSETTO:-0500
TZNAME:EST
DTSTART:20261101T060000
END:STANDARD
BEGIN:DAYLIGHT
TZOFFSETFROM:-0500
TZOFFSETTO:-0400
TZNAME:EDT
DTSTART:20270314T070000
END:DAYLIGHT
BEGIN:STANDARD
TZOFFSETFROM:-0400
TZOFFSETTO:-0500
TZNAME:EST
DTSTART:20271107T060000
END:STANDARD
END:VTIMEZONE
BEGIN:VEVENT
DTSTART;TZID=America/New_York:20260221T090000
DTEND;TZID=America/New_York:20260221T160000
DTSTAMP:20260425T161020
CREATED:20260125T161511Z
LAST-MODIFIED:20260219T193041Z
UID:13059-1771664400-1771689600@snowridge.com
SUMMARY:80th Anniversary Celebration!
DESCRIPTION:Celebrating 80 Years on Snow! \nSaturday\, February 21st 🎉 All-Day Anniversary Celebration \nJoin us as we celebrate 80 years of skiing\, memories\, and community with a day full of throwback fun on and off the snow. \n🕺 Retro Ski Outfit Contest (All Day)\nBreak out your vintage gear\, sweaters\, and throwback looks🏆 Winners announced during the bonfire celebration \n⛷️ South Slope Anniversary Fun Course for all ages | 11:00 AM – 1:00 PM \n🥃 Free Tastings with 10th Mtn Spirits in Tavern230 | 1:00 – 5:00 PM \n🎶 Live Music with Rebecca Minor | 3:00 – 6:00 PM \n📸 80 Years of History Display | Wax House Lodge – All Day \n❄️ Kids Snowman Building | Courtyard 1:00 – 3:00 PM \n🔥🥂FREE Champagne Toast & Bonfire\nJoin us by the fire as we raise a glass to 80 incredible years\n🏆 Retro outfit winners announced \n❤️ Thank you for being part of our story—here’s to many more!
URL:https://snowridge.com/event/80th-anniversary-celebration/
LOCATION:Snow Ridge\, 4173 WEST ROAD\, TURIN\, NY\, 13473\, United States
ATTACH;FMTTYPE=image/png:https://snowridge.com/wp/wp-content/uploads/2026/01/Untitled-42.png
END:VEVENT
BEGIN:VEVENT
DTSTART;TZID=America/New_York:20260321T090000
DTEND;TZID=America/New_York:20260321T160000
DTSTAMP:20260425T161020
CREATED:20260320T192906Z
LAST-MODIFIED:20260320T192906Z
UID:13134-1774083600-1774108800@snowridge.com
SUMMARY:Spring Fest!
DESCRIPTION:🎉 Spring Fest is a full day of family fun\, featuring: \n🛶 Snow Kayaking \n🥌 Human Curling \n🔍 On-snow Scavenger Hunt across the mountain \nWe’re so excited to celebrate another GREAT season with our amazing community and invite everyone out for what’s sure to be an unforgettable weekend at the Ridge ❤️
URL:https://snowridge.com/event/spring-fest-2/
LOCATION:NY
ATTACH;FMTTYPE=image/png:https://snowridge.com/wp/wp-content/uploads/2026/03/Untitled-53-scaled.png
END:VEVENT
BEGIN:VEVENT
DTSTART;TZID=America/New_York:20260329T100000
DTEND;TZID=America/New_York:20260329T160000
DTSTAMP:20260425T161020
CREATED:20260320T191551Z
LAST-MODIFIED:20260324T193755Z
UID:13129-1774778400-1774800000@snowridge.com
SUMMARY:Pond Skim!
DESCRIPTION:🌊☀️ POND SKIM IS BACK! ☀️🌊 \nSunday\, March 29th… it’s time to send it 💥 \nThink you’ve got what it takes to skim across the pond… or at least make a legendary splash? 😏 \n🏆 We’re handing out awards for: \n💦 Best Skim – smooth\, stylish\, and somehow still dry \n🌊 Best Swim – because not everyone makes it (and that’s half the fun) \n🎭 Best Costume – go all out\, the crazier the better \nWhether you’re competing or just here for the chaos\, this is one event you don’t want to miss. \nREGISTRATION 10AM-12PM \nPOND OPEN 12PM-2PM \nAWARDS AND APRES AFTER PARTY IN TAVERN230 2PM-4PM
URL:https://snowridge.com/event/pond-skim-4/
LOCATION:NY
ATTACH;FMTTYPE=image/png:https://snowridge.com/wp/wp-content/uploads/2026/03/Untitled-57.png
END:VEVENT
BEGIN:VEVENT
DTSTART;TZID=America/New_York:20260404T100000
DTEND;TZID=America/New_York:20260404T160000
DTSTAMP:20260425T161020
CREATED:20260320T194549Z
LAST-MODIFIED:20260320T194549Z
UID:13137-1775296800-1775318400@snowridge.com
SUMMARY:Flower Skate Shop 6th Annual Rail Jam
DESCRIPTION:The Flower Skate Shop’s 6th Annual Rail Jam is going down on April 4th!\nWe welcome all skiers\, boarders\, and snow skates to throw down and compete for prizes!\n\nMagic Carpet Hike Park $25/personTop 3 Ski/Board\, Best Trick JamRegister/Warm Up 10am-12pmJam 12pm-3pmAwards 3pm-4pm
URL:https://snowridge.com/event/flower-skate-shop-6th-annual-rail-jam/
LOCATION:NY
ATTACH;FMTTYPE=image/jpeg:https://snowridge.com/wp/wp-content/uploads/2026/03/IMG_7366.jpg
END:VEVENT
BEGIN:VEVENT
DTSTART;TZID=America/New_York:20260425T100000
DTEND;TZID=America/New_York:20260425T120000
DTSTAMP:20260425T161020
CREATED:20260410T182205Z
LAST-MODIFIED:20260410T183937Z
UID:13171-1777111200-1777118400@snowridge.com
SUMMARY:SROC Earth Day Clean Up!
DESCRIPTION:This Earth Day\, the Snow Ridge Outdoor Collaborative invites you to make a meaningful impact on the place we all love. Join us for a community cleanup as we remove litter and debris left behind from the winter season. \nThis effort not only helps beautify the land but also prepares the area for the development of our upcoming Nature Walk Trails\, expanding year-round outdoor opportunities at Snow Ridge. \nEvent Details: \n🗓 Date: Saturday\, April 25th \n🕒 Time: 10am-12pm \n📍 Location: Snow Ridge Ski Resort \nTrash bags\, disposable gloves\, and a light lunch will be provided for all volunteers. Bring your family and friends and help us make a lasting difference!
URL:https://snowridge.com/event/sroc-earth-day-clean-up/
LOCATION:NY
ATTACH;FMTTYPE=image/png:https://snowridge.com/wp/wp-content/uploads/2026/04/Untitled-58-scaled.png
END:VEVENT
BEGIN:VEVENT
DTSTART;TZID=America/New_York:20260516T090000
DTEND;TZID=America/New_York:20260516T160000
DTSTAMP:20260425T161020
CREATED:20260320T200250Z
LAST-MODIFIED:20260320T200250Z
UID:13140-1778922000-1778947200@snowridge.com
SUMMARY:2026 TugMudDare Adventure Run
DESCRIPTION:Put your body and mind to the test this spring as you run\, walk\, crawl\, jump\, climb\, and high-five your way along our 3.1-mile obstacle course. Set among the scenic ridge lines\, woods\, streams\, and trails of Snow Ridge Resort\, you’ll test your true grit on 20+ unique and challenging obstacles.\n\n Choose Your Challenge:\n 5K Obstacle Course• Competitive heat for those racing for time• Team heats for friends\, coworkers\, and families• Individual runners welcome\n 1-Mile Kids Course (12 & Under)A fun\, confidence-building obstacle adventure designed just for kids — all the excitement\, sized for young daredevils!\n\nWhether you’re racing for time or just racing to the next obstacle with your best friends\, TMD is about coming together\, getting messy\, and celebrating the challenge.\n Saturday\, May 16th Snow Ridge Resort\n#DoYouDare take on TugMudDare?
URL:https://snowridge.com/event/2026-tugmuddare-adventure-run/
LOCATION:NY
CATEGORIES:Summer Events
ATTACH;FMTTYPE=image/png:https://snowridge.com/wp/wp-content/uploads/2026/03/Untitled-55-scaled.png
END:VEVENT
BEGIN:VEVENT
DTSTART;TZID=America/New_York:20260619T120000
DTEND;TZID=America/New_York:20260621T120000
DTSTAMP:20260425T161020
CREATED:20260403T173057Z
LAST-MODIFIED:20260403T173057Z
UID:13164-1781870400-1782043200@snowridge.com
SUMMARY:R100 3D ARCHERY SHOOT
DESCRIPTION:The R100 is a family-friendly 3D archery circuit that works with clubs all across the country to host R100 events. All events will be the same format including two 50-target ranges (the Safari Range and the North American Range). On top of the 2 ranges\, they also provide specialty shoots each day\, which you can learn more about here
URL:https://snowridge.com/event/r100-3d-archery-shoot/
LOCATION:Snow Ridge\, 4173 WEST ROAD\, TURIN\, NY\, 13473\, United States
ATTACH;FMTTYPE=application/pdf:https://snowridge.com/wp/wp-content/uploads/2026/04/April.pdf
END:VEVENT
END:VCALENDAR