BEGIN:VCALENDAR
VERSION:2.0
PRODID:-//Snow Ridge - ECPv6.15.11//NONSGML v1.0//EN
CALSCALE:GREGORIAN
METHOD:PUBLISH
X-ORIGINAL-URL:https://snowridge.com
X-WR-CALDESC:Events for Snow Ridge
REFRESH-INTERVAL;VALUE=DURATION:PT1H
X-Robots-Tag:noindex
X-PUBLISHED-TTL:PT1H
BEGIN:VTIMEZONE
TZID:America/New_York
BEGIN:DAYLIGHT
TZOFFSETFROM:-0500
TZOFFSETTO:-0400
TZNAME:EDT
DTSTART:20240310T070000
END:DAYLIGHT
BEGIN:STANDARD
TZOFFSETFROM:-0400
TZOFFSETTO:-0500
TZNAME:EST
DTSTART:20241103T060000
END:STANDARD
BEGIN:DAYLIGHT
TZOFFSETFROM:-0500
TZOFFSETTO:-0400
TZNAME:EDT
DTSTART:20250309T070000
END:DAYLIGHT
BEGIN:STANDARD
TZOFFSETFROM:-0400
TZOFFSETTO:-0500
TZNAME:EST
DTSTART:20251102T060000
END:STANDARD
BEGIN:DAYLIGHT
TZOFFSETFROM:-0500
TZOFFSETTO:-0400
TZNAME:EDT
DTSTART:20260308T070000
END:DAYLIGHT
BEGIN:STANDARD
TZOFFSETFROM:-0400
TZOFFSETTO:-0500
TZNAME:EST
DTSTART:20261101T060000
END:STANDARD
END:VTIMEZONE
BEGIN:VEVENT
DTSTART;TZID=America/New_York:20250614T150000
DTEND;TZID=America/New_York:20250614T190000
DTSTAMP:20260422T023255
CREATED:20250415T165448Z
LAST-MODIFIED:20250421T132555Z
UID:12695-1749913200-1749927600@snowridge.com
SUMMARY:Sip & Stroll Evening Market
DESCRIPTION:This is not your ordinary farmer’s market! The Sip ’n Stroll will feature live music\, delicious food trucks\, tasty beverages\, lawn games\, a petting zoo\, quality vendors\, artisans\, exhibitors and more! The Market will be hosted once a month from May to August and admission is free for guests. Though only in its first year\, it’s sure to be one of the quintessential North Country events of the summer! \nVENDORS\nContact nick@snowridge.com for more information and to register today!
URL:https://snowridge.com/event/sip-stroll-evening-market-2/
LOCATION:Snow Ridge\, 4173 WEST ROAD\, TURIN\, NY\, 13473\, United States
CATEGORIES:Summer Events,Tavern230 Events
ATTACH;FMTTYPE=image/png:https://snowridge.com/wp/wp-content/uploads/2025/04/Untitled-15.png
END:VEVENT
END:VCALENDAR