BEGIN:VCALENDAR
VERSION:2.0
PRODID:-//Snow Ridge - ECPv6.15.11//NONSGML v1.0//EN
CALSCALE:GREGORIAN
METHOD:PUBLISH
X-WR-CALNAME:Snow Ridge
X-ORIGINAL-URL:https://snowridge.com
X-WR-CALDESC:Events for Snow Ridge
REFRESH-INTERVAL;VALUE=DURATION:PT1H
X-Robots-Tag:noindex
X-PUBLISHED-TTL:PT1H
BEGIN:VTIMEZONE
TZID:America/New_York
BEGIN:DAYLIGHT
TZOFFSETFROM:-0500
TZOFFSETTO:-0400
TZNAME:EDT
DTSTART:20230312T070000
END:DAYLIGHT
BEGIN:STANDARD
TZOFFSETFROM:-0400
TZOFFSETTO:-0500
TZNAME:EST
DTSTART:20231105T060000
END:STANDARD
BEGIN:DAYLIGHT
TZOFFSETFROM:-0500
TZOFFSETTO:-0400
TZNAME:EDT
DTSTART:20240310T070000
END:DAYLIGHT
BEGIN:STANDARD
TZOFFSETFROM:-0400
TZOFFSETTO:-0500
TZNAME:EST
DTSTART:20241103T060000
END:STANDARD
BEGIN:DAYLIGHT
TZOFFSETFROM:-0500
TZOFFSETTO:-0400
TZNAME:EDT
DTSTART:20250309T070000
END:DAYLIGHT
BEGIN:STANDARD
TZOFFSETFROM:-0400
TZOFFSETTO:-0500
TZNAME:EST
DTSTART:20251102T060000
END:STANDARD
END:VTIMEZONE
BEGIN:VEVENT
DTSTART;TZID=America/New_York:20240408T120000
DTEND;TZID=America/New_York:20240408T170000
DTSTAMP:20260424T204617
CREATED:20240314T201601Z
LAST-MODIFIED:20240408T125757Z
UID:11898-1712577600-1712595600@snowridge.com
SUMMARY:Solar Eclipse Party!
DESCRIPTION:** Pre-sale tickets are sold out. We will be accepting walk-ins at the main gate ** \nCheck out all the info for our Solar Eclipse Viewing Party in Tavern230 and on the hill! \n\n$10 entry includes the Tavern party\, a chair lift ride to the top of the hill\, and a pair of AAS certified viewing glasses to the first 100 pre-sale tickets sold!\nThe Tavern will open at Noon with drink and food specials\, music\, lawn games\, and outdoor fire pit.\nThe chair lift will run from 2pm-4pm. All guests MUST walk down the hill. There will be NO down loading on the lift.\nViewing of the eclipse may be done from the bottom of the hill\, from the chair lift\, or the top of the hill!\nTickets will be limited and only the first 100 will receive free viewing glasses.\nChildren 6 and under are free! Glasses are not included with their free admission.\nCamping is available\, please email nick@snowridge.com to make reservations.\nThis is a rain or shine event\, no refunds. Live streams of the eclipse will be available in the Tavern if there is cloud cover or poor weather.
URL:https://snowridge.com/event/solar-eclipse-party/
LOCATION:Tavern230\, 4173 West Rd.\, Turin\, NY\, 13473\, United States
CATEGORIES:Tavern230 Events
ATTACH;FMTTYPE=image/jpeg:https://snowridge.com/wp/wp-content/uploads/2024/03/Eclipse-Flyer.jpeg
END:VEVENT
END:VCALENDAR