BEGIN:VCALENDAR
VERSION:2.0
PRODID:-//Snow Ridge - ECPv6.15.11//NONSGML v1.0//EN
CALSCALE:GREGORIAN
METHOD:PUBLISH
X-WR-CALNAME:Snow Ridge
X-ORIGINAL-URL:https://snowridge.com
X-WR-CALDESC:Events for Snow Ridge
REFRESH-INTERVAL;VALUE=DURATION:PT1H
X-Robots-Tag:noindex
X-PUBLISHED-TTL:PT1H
BEGIN:VTIMEZONE
TZID:America/New_York
BEGIN:DAYLIGHT
TZOFFSETFROM:-0500
TZOFFSETTO:-0400
TZNAME:EDT
DTSTART:20220313T070000
END:DAYLIGHT
BEGIN:STANDARD
TZOFFSETFROM:-0400
TZOFFSETTO:-0500
TZNAME:EST
DTSTART:20221106T060000
END:STANDARD
BEGIN:DAYLIGHT
TZOFFSETFROM:-0500
TZOFFSETTO:-0400
TZNAME:EDT
DTSTART:20230312T070000
END:DAYLIGHT
BEGIN:STANDARD
TZOFFSETFROM:-0400
TZOFFSETTO:-0500
TZNAME:EST
DTSTART:20231105T060000
END:STANDARD
BEGIN:DAYLIGHT
TZOFFSETFROM:-0500
TZOFFSETTO:-0400
TZNAME:EDT
DTSTART:20240310T070000
END:DAYLIGHT
BEGIN:STANDARD
TZOFFSETFROM:-0400
TZOFFSETTO:-0500
TZNAME:EST
DTSTART:20241103T060000
END:STANDARD
END:VTIMEZONE
BEGIN:VEVENT
DTSTART;TZID=America/New_York:20230623T120000
DTEND;TZID=America/New_York:20230625T120000
DTSTAMP:20260425T205809
CREATED:20230524T201957Z
LAST-MODIFIED:20230524T201957Z
UID:5725-1687521600-1687694400@snowridge.com
SUMMARY:Goonfest 2023
DESCRIPTION:The newest addition to the summer music lineup is back! Grab your tickets to support a small family business and have an absolute blast in the woods with us! All the information and tickets can be found at the link below. \nFrom festival host\, Goon Gear!\nGoonfest year 3 coming at ya! June 22-25th (22nd for VIP only)  at Snow Ridge Ski Resort in Turin New York ! Take off work. Come hang. We will have camping \, music \, skating \, vendors\,  food \, bonfire\, indoor and outdoor bar\, 18 round disc golf \, Game of skate (with awards) \,  bounce house \, inflatable jousting\, just all around good times . Dont miss this! Definitely nothing like it .
URL:https://snowridge.com/event/goonfest-2023/
LOCATION:Snow Ridge\, 4173 WEST ROAD\, TURIN\, NY\, 13473\, United States
CATEGORIES:Summer Events
END:VEVENT
END:VCALENDAR