BEGIN:VCALENDAR
VERSION:2.0
PRODID:-//Snow Ridge - ECPv6.15.11//NONSGML v1.0//EN
CALSCALE:GREGORIAN
METHOD:PUBLISH
X-ORIGINAL-URL:https://snowridge.com
X-WR-CALDESC:Events for Snow Ridge
REFRESH-INTERVAL;VALUE=DURATION:PT1H
X-Robots-Tag:noindex
X-PUBLISHED-TTL:PT1H
BEGIN:VTIMEZONE
TZID:America/New_York
BEGIN:DAYLIGHT
TZOFFSETFROM:-0500
TZOFFSETTO:-0400
TZNAME:EDT
DTSTART:20220313T070000
END:DAYLIGHT
BEGIN:STANDARD
TZOFFSETFROM:-0400
TZOFFSETTO:-0500
TZNAME:EST
DTSTART:20221106T060000
END:STANDARD
BEGIN:DAYLIGHT
TZOFFSETFROM:-0500
TZOFFSETTO:-0400
TZNAME:EDT
DTSTART:20230312T070000
END:DAYLIGHT
BEGIN:STANDARD
TZOFFSETFROM:-0400
TZOFFSETTO:-0500
TZNAME:EST
DTSTART:20231105T060000
END:STANDARD
BEGIN:DAYLIGHT
TZOFFSETFROM:-0500
TZOFFSETTO:-0400
TZNAME:EDT
DTSTART:20240310T070000
END:DAYLIGHT
BEGIN:STANDARD
TZOFFSETFROM:-0400
TZOFFSETTO:-0500
TZNAME:EST
DTSTART:20241103T060000
END:STANDARD
END:VTIMEZONE
BEGIN:VEVENT
DTSTART;TZID=America/New_York:20230513T090000
DTEND;TZID=America/New_York:20230513T160000
DTSTAMP:20260425T191927
CREATED:20220920T183220Z
LAST-MODIFIED:20220920T183220Z
UID:5276-1683968400-1683993600@snowridge.com
SUMMARY:TMD2023
DESCRIPTION:The TugMudDare at Snow Ridge Resort in Turin\, NY is the premier Adventure Run in the Tug Hill-Adirondack Region! The 5K course wanders throughout the ski area\, across ridge lines\, through streams\, and up and down hills as it covers roughly 2000 vertical feet. This unique course will challenge you unlike any other\, while also providing countless smiles\, laughs and high fives. There are a number of different ways to participate in the TugMudDare Adventure Run!\n\n​INDIVIDUAL COMPETITIVE: This one is simple\, it’s a race to the finish line with bragging rights\, medals\, and prizes on the line for the top three female and male finishers. You’ll run solo against the field in one of two competitive heats to see who ends up on top! The 5K race is one lap around the course\, while the 10K Double Dare racers will take two laps. In order to post a valid time in these heats\, all obstacles must be completed successfully by the racer.\n\nINDIVIDUAL OPEN: Don’t have a team or prefer to take on the challenge by yourself\, but not really looking to compete? These heats offer a non-competitive opportunity to take on the course by yourself for the fun of it! You will receive a finishing time\, but no prizes will be awarded in these heats.\n\n​TEAM OPEN: Teamwork and fun are the name of the game here. You’ll work together with your teammates to finish the TugMudDare course! There is no minimum or maximum team size\, so grab some friends and assemble your team! Team heats are NOT competitive. Team’s will receive a finishing time only for fun\, no prizes are awarded in these heats.\n\n​JUNIOR: The Jr.MudDare is run on a smaller\, separate course than the TugMudDare. This run is open to all kids ages 3-15 years old. Children 5 and under require a parent or guardian to participate with them (no additional fee required). This is a fun run with all kids receiving a finishers medal for completing the course!\n\nFollow the link for more information and to register at the lowest price today!
URL:https://snowridge.com/event/tmd2023/
LOCATION:Snow Ridge\, 4173 WEST ROAD\, TURIN\, NY\, 13473\, United States
CATEGORIES:Summer Events
ATTACH;FMTTYPE=image/png:https://snowridge.com/wp/wp-content/uploads/2021/05/Screen-Shot-2022-04-28-at-3.46.06-PM.png
END:VEVENT
END:VCALENDAR