BEGIN:VCALENDAR
VERSION:2.0
PRODID:-//Snow Ridge - ECPv6.15.11//NONSGML v1.0//EN
CALSCALE:GREGORIAN
METHOD:PUBLISH
X-ORIGINAL-URL:https://snowridge.com
X-WR-CALDESC:Events for Snow Ridge
REFRESH-INTERVAL;VALUE=DURATION:PT1H
X-Robots-Tag:noindex
X-PUBLISHED-TTL:PT1H
BEGIN:VTIMEZONE
TZID:America/New_York
BEGIN:DAYLIGHT
TZOFFSETFROM:-0500
TZOFFSETTO:-0400
TZNAME:EDT
DTSTART:20220313T070000
END:DAYLIGHT
BEGIN:STANDARD
TZOFFSETFROM:-0400
TZOFFSETTO:-0500
TZNAME:EST
DTSTART:20221106T060000
END:STANDARD
BEGIN:DAYLIGHT
TZOFFSETFROM:-0500
TZOFFSETTO:-0400
TZNAME:EDT
DTSTART:20230312T070000
END:DAYLIGHT
BEGIN:STANDARD
TZOFFSETFROM:-0400
TZOFFSETTO:-0500
TZNAME:EST
DTSTART:20231105T060000
END:STANDARD
BEGIN:DAYLIGHT
TZOFFSETFROM:-0500
TZOFFSETTO:-0400
TZNAME:EDT
DTSTART:20240310T070000
END:DAYLIGHT
BEGIN:STANDARD
TZOFFSETFROM:-0400
TZOFFSETTO:-0500
TZNAME:EST
DTSTART:20241103T060000
END:STANDARD
END:VTIMEZONE
BEGIN:VEVENT
DTSTART;TZID=America/New_York:20230408T100000
DTEND;TZID=America/New_York:20230408T160000
DTSTAMP:20260425T174941
CREATED:20230329T185246Z
LAST-MODIFIED:20230329T185246Z
UID:5689-1680948000-1680969600@snowridge.com
SUMMARY:Post-Season Park Jam
DESCRIPTION:The park rats’ favorite event of the season is back on Saturday\, April 8th! The Post-Season Park Jam presented by Flower Skate Shop is set to go off with another killer session at the bottom of South. This one day only\, special park build will be serviced by the carpet lift. Bunny Bowl and the Tubing Park will be transformed into a unique\, incredibly fun park setup\, the likes of which you won’t see anywhere else in the state. \nSkiers and boarders can come session the setup for fun\, compete in a number of events\, or just watch the show from the bottom of the hill! Food and drink will be available for purchase right at the bottom of the park. \nCarpet only lift ticket: $20\nCarpet lift ticket plus events/prizes: $30\nChair lift ticket plus events/prizes: $40 (TBD if Ridge Runner Chair is open) \nCheck back soon for more information on the day’s events!
URL:https://snowridge.com/event/post-season-park-jam-2/
LOCATION:Snow Ridge\, 4173 WEST ROAD\, TURIN\, NY\, 13473\, United States
CATEGORIES:Terrain Park Events
ATTACH;FMTTYPE=image/jpeg:https://snowridge.com/wp/wp-content/uploads/2021/03/87EC378F-4B52-4D84-9A63-B7FAFD402E8E.jpeg
END:VEVENT
END:VCALENDAR