BEGIN:VCALENDAR
VERSION:2.0
PRODID:-//Snow Ridge - ECPv6.15.11//NONSGML v1.0//EN
CALSCALE:GREGORIAN
METHOD:PUBLISH
X-ORIGINAL-URL:https://snowridge.com
X-WR-CALDESC:Events for Snow Ridge
REFRESH-INTERVAL;VALUE=DURATION:PT1H
X-Robots-Tag:noindex
X-PUBLISHED-TTL:PT1H
BEGIN:VTIMEZONE
TZID:America/New_York
BEGIN:DAYLIGHT
TZOFFSETFROM:-0500
TZOFFSETTO:-0400
TZNAME:EDT
DTSTART:20220313T070000
END:DAYLIGHT
BEGIN:STANDARD
TZOFFSETFROM:-0400
TZOFFSETTO:-0500
TZNAME:EST
DTSTART:20221106T060000
END:STANDARD
BEGIN:DAYLIGHT
TZOFFSETFROM:-0500
TZOFFSETTO:-0400
TZNAME:EDT
DTSTART:20230312T070000
END:DAYLIGHT
BEGIN:STANDARD
TZOFFSETFROM:-0400
TZOFFSETTO:-0500
TZNAME:EST
DTSTART:20231105T060000
END:STANDARD
BEGIN:DAYLIGHT
TZOFFSETFROM:-0500
TZOFFSETTO:-0400
TZNAME:EDT
DTSTART:20240310T070000
END:DAYLIGHT
BEGIN:STANDARD
TZOFFSETFROM:-0400
TZOFFSETTO:-0500
TZNAME:EST
DTSTART:20241103T060000
END:STANDARD
END:VTIMEZONE
BEGIN:VEVENT
DTSTART;TZID=America/New_York:20230402T130000
DTEND;TZID=America/New_York:20230402T150000
DTSTAMP:20260425T160314
CREATED:20230308T201054Z
LAST-MODIFIED:20230330T180216Z
UID:5652-1680440400-1680447600@snowridge.com
SUMMARY:Pond Skim!
DESCRIPTION:FINAL DATE: Sunday\, April 2nd \nIt’s back\, our FAVORITE event of the season\, the Sink or Swim POND SKIM! This year’s event will be held on Sunday\, April 2nd. Try your hand at skimming the pond or if you’d prefer to stay (mostly) dry\, come and watch the action pond side! We’ll be listening to tunes\, enjoying some BBQ and beverages\, and soaking up the spring time vibes. This is one event that you do NOT want to miss! \nAll pond skimmers will be required to complete a liability release form and make a $10 donation to the Snow Ridge Ski Patrol.
URL:https://snowridge.com/event/pond-skim-2/
LOCATION:Snow Ridge\, 4173 WEST ROAD\, TURIN\, NY\, 13473\, United States
ATTACH;FMTTYPE=image/jpeg:https://snowridge.com/wp/wp-content/uploads/2022/03/O5A9336-scaled.jpg
END:VEVENT
END:VCALENDAR