BEGIN:VCALENDAR
VERSION:2.0
PRODID:-//Snow Ridge - ECPv6.15.11//NONSGML v1.0//EN
CALSCALE:GREGORIAN
METHOD:PUBLISH
X-WR-CALNAME:Snow Ridge
X-ORIGINAL-URL:https://snowridge.com
X-WR-CALDESC:Events for Snow Ridge
REFRESH-INTERVAL;VALUE=DURATION:PT1H
X-Robots-Tag:noindex
X-PUBLISHED-TTL:PT1H
BEGIN:VTIMEZONE
TZID:America/New_York
BEGIN:DAYLIGHT
TZOFFSETFROM:-0500
TZOFFSETTO:-0400
TZNAME:EDT
DTSTART:20220313T070000
END:DAYLIGHT
BEGIN:STANDARD
TZOFFSETFROM:-0400
TZOFFSETTO:-0500
TZNAME:EST
DTSTART:20221106T060000
END:STANDARD
BEGIN:DAYLIGHT
TZOFFSETFROM:-0500
TZOFFSETTO:-0400
TZNAME:EDT
DTSTART:20230312T070000
END:DAYLIGHT
BEGIN:STANDARD
TZOFFSETFROM:-0400
TZOFFSETTO:-0500
TZNAME:EST
DTSTART:20231105T060000
END:STANDARD
BEGIN:DAYLIGHT
TZOFFSETFROM:-0500
TZOFFSETTO:-0400
TZNAME:EDT
DTSTART:20240310T070000
END:DAYLIGHT
BEGIN:STANDARD
TZOFFSETFROM:-0400
TZOFFSETTO:-0500
TZNAME:EST
DTSTART:20241103T060000
END:STANDARD
END:VTIMEZONE
BEGIN:VEVENT
DTSTART;TZID=America/New_York:20230120T180000
DTEND;TZID=America/New_York:20230120T200000
DTSTAMP:20260425T191252
CREATED:20230104T214028Z
LAST-MODIFIED:20230120T160033Z
UID:5518-1674237600-1674244800@snowridge.com
SUMMARY:Adult Race League!
DESCRIPTION:Welcome to the all new Friday Night Adult Race League! Check out the info below\, gather your team\, and get signed up today! \nFriday Night Adult Race League\n \nDates: League races will be held between 6-8pm on four consecutive Friday nights – January 20th\, 27th\, February 3rd\, 10th \nTeams: Teams will be made up of 3 people. They can be any mix of skiers and snowboarders\, and must include at least one female. Racers must be at least 21 years of age before the first night of league. \nCost: Individual racer cost is $45\, making a full team $135. This includes 4 weeks of racing\, one pitcher of beer each week per team\, and an end of league party. Night lift tickets are available to racers at only $15 per week. \nRules: \n– Each racer is allowed to take two runs\, but must complete at least one run between 6pm and 8pm. The best of the two runs will count towards the team total.\n– One run from each racer will be tallied into the team total for the week.\n– If a racer cannot attend one week\, the team is responsible for finding a substitute OR taking the maximum individual time allotment for that night.\n– Points will be awarded each week based on a team’s overall finish. These points will accrue over the 4 weeks to determine the overall league champions. Prizes will be awarded to the top 3 teams\, fastest ski male\, fastest ski female\, fastest snowboard male\, and fastest snowboard female.\n– Additional rules or judgments may be made by the race committee \nPre-registration has ended. Racers are welcome to sign up in person at the wax house this evening! 
URL:https://snowridge.com/event/adult-race-league/
LOCATION:Snow Ridge\, 4173 WEST ROAD\, TURIN\, NY\, 13473\, United States
END:VEVENT
END:VCALENDAR