BEGIN:VCALENDAR
VERSION:2.0
PRODID:-//Snow Ridge - ECPv6.15.11//NONSGML v1.0//EN
CALSCALE:GREGORIAN
METHOD:PUBLISH
X-ORIGINAL-URL:https://snowridge.com
X-WR-CALDESC:Events for Snow Ridge
REFRESH-INTERVAL;VALUE=DURATION:PT1H
X-Robots-Tag:noindex
X-PUBLISHED-TTL:PT1H
BEGIN:VTIMEZONE
TZID:America/New_York
BEGIN:DAYLIGHT
TZOFFSETFROM:-0500
TZOFFSETTO:-0400
TZNAME:EDT
DTSTART:20210314T070000
END:DAYLIGHT
BEGIN:STANDARD
TZOFFSETFROM:-0400
TZOFFSETTO:-0500
TZNAME:EST
DTSTART:20211107T060000
END:STANDARD
BEGIN:DAYLIGHT
TZOFFSETFROM:-0500
TZOFFSETTO:-0400
TZNAME:EDT
DTSTART:20220313T070000
END:DAYLIGHT
BEGIN:STANDARD
TZOFFSETFROM:-0400
TZOFFSETTO:-0500
TZNAME:EST
DTSTART:20221106T060000
END:STANDARD
BEGIN:DAYLIGHT
TZOFFSETFROM:-0500
TZOFFSETTO:-0400
TZNAME:EDT
DTSTART:20230312T070000
END:DAYLIGHT
BEGIN:STANDARD
TZOFFSETFROM:-0400
TZOFFSETTO:-0500
TZNAME:EST
DTSTART:20231105T060000
END:STANDARD
END:VTIMEZONE
BEGIN:VEVENT
DTSTART;TZID=America/New_York:20221105T100000
DTEND;TZID=America/New_York:20221105T140000
DTSTAMP:20260425T223341
CREATED:20221027T165659Z
LAST-MODIFIED:20221027T165659Z
UID:5348-1667642400-1667656800@snowridge.com
SUMMARY:Trail Building Day
DESCRIPTION:We’re looking for volunteers to help us build one of our newest ski trails as well as our brand new mountain bike trails! For the ski trail\, we’ll be focusing on the top section of Pocket Knife\, one of the newest additions to the Snow Pocket area. We’ll be clearing a gladed trail from Rockin’ Robin\, down to the lower\, open section of Pocket Knife. \nFor the bike trails\, we’ll continue working across the top of the hill to connect the uphill climb trail with the downhill trail that will be built next spring. Finishing this upper XC connecting trail will put us at about 70% completion\, putting us in good shape for opening early next summer! These trails will be free to ride and their construction depends on volunteer hands. The more people we have to help\, the sooner they’ll be able to open! \nAs always\, lunch and drinks are on us after a few good hours of work. We’ll meet in the parking lot at 10AM. Useful tools to bring include shears\, loppers\, hand saws\, machetes\, and anything else used to clear brush.
URL:https://snowridge.com/event/trail-building-day/
LOCATION:Snow Ridge\, 4173 WEST ROAD\, TURIN\, NY\, 13473\, United States
CATEGORIES:Summer Events
ATTACH;FMTTYPE=image/jpeg:https://snowridge.com/wp/wp-content/uploads/2021/10/IMG_9041-scaled.jpg
END:VEVENT
END:VCALENDAR